BEGIN:VCALENDAR
VERSION:2.0
PRODID:-//StarkSoil&amp;Water - ECPv6.15.18//NONSGML v1.0//EN
CALSCALE:GREGORIAN
METHOD:PUBLISH
X-WR-CALNAME:StarkSoil&amp;Water
X-ORIGINAL-URL:https://starkswcd.org
X-WR-CALDESC:Events for StarkSoil&amp;Water
REFRESH-INTERVAL;VALUE=DURATION:PT1H
X-Robots-Tag:noindex
X-PUBLISHED-TTL:PT1H
BEGIN:VTIMEZONE
TZID:America/New_York
BEGIN:DAYLIGHT
TZOFFSETFROM:-0500
TZOFFSETTO:-0400
TZNAME:EDT
DTSTART:20250309T070000
END:DAYLIGHT
BEGIN:STANDARD
TZOFFSETFROM:-0400
TZOFFSETTO:-0500
TZNAME:EST
DTSTART:20251102T060000
END:STANDARD
BEGIN:DAYLIGHT
TZOFFSETFROM:-0500
TZOFFSETTO:-0400
TZNAME:EDT
DTSTART:20260308T070000
END:DAYLIGHT
BEGIN:STANDARD
TZOFFSETFROM:-0400
TZOFFSETTO:-0500
TZNAME:EST
DTSTART:20261101T060000
END:STANDARD
BEGIN:DAYLIGHT
TZOFFSETFROM:-0500
TZOFFSETTO:-0400
TZNAME:EDT
DTSTART:20270314T070000
END:DAYLIGHT
BEGIN:STANDARD
TZOFFSETFROM:-0400
TZOFFSETTO:-0500
TZNAME:EST
DTSTART:20271107T060000
END:STANDARD
END:VTIMEZONE
BEGIN:VEVENT
DTSTART;TZID=America/New_York:20260514T080000
DTEND;TZID=America/New_York:20260514T100000
DTSTAMP:20260424T083032
CREATED:20251217T203350Z
LAST-MODIFIED:20251217T203350Z
UID:1140-1778745600-1778752800@starkswcd.org
SUMMARY:Board meeting
DESCRIPTION:
URL:https://starkswcd.org/event/board-meeting-5/
END:VEVENT
BEGIN:VEVENT
DTSTART;TZID=America/New_York:20260516T103000
DTEND;TZID=America/New_York:20260516T120000
DTSTAMP:20260424T083032
CREATED:20260312T161824Z
LAST-MODIFIED:20260408T192330Z
UID:1474-1778927400-1778932800@starkswcd.org
SUMMARY:Wild Property Management
DESCRIPTION:Justin Weisent- Owner of Wild Land Management: Managing your property for wildlife\, forestry\, conservation and more! – Join us on a hike where we will discuss land management topics such as; invasive species control\, timber management\, early successional habitat\, wildlife/hunting management\, tree planting\, yard to pollinator conversions and more. 10am- 12:30pm. Meet at Sippo Lake Park Exploration Gateway lower parking lot. 
URL:https://starkswcd.org/event/wild-property-management/
LOCATION:Exploration Gateway\, 5710 12th St NW\, Canton\, 44708
END:VEVENT
BEGIN:VEVENT
DTSTART;TZID=America/New_York:20260605T203000
DTEND;TZID=America/New_York:20260605T223000
DTSTAMP:20260424T083032
CREATED:20260409T144008Z
LAST-MODIFIED:20260423T144120Z
UID:1667-1780691400-1780698600@starkswcd.org
SUMMARY:Nature Nights
DESCRIPTION:Join Stark Parks and Stark SWCD to discover what wildlife lurks at night through hands on discovery and how artificial light is affecting their survivability. Leave with a newfound knowledge of how these forgotten creatures of the night are beneficial pollinators and how we can support their role in our ecosystems. Visit Stark Parks Calendar of Events for additional information about the event. Fry Family Park. 8:30-10:30pm. 
URL:https://starkswcd.org/event/mature-nights/
LOCATION:Fry Family Park\, 2533 Farber St SE\, Magnolia\, OH\, 44643\, United States
END:VEVENT
BEGIN:VEVENT
DTSTART;TZID=America/New_York:20260611T080000
DTEND;TZID=America/New_York:20260611T100000
DTSTAMP:20260424T083032
CREATED:20251217T203416Z
LAST-MODIFIED:20251217T203426Z
UID:1142-1781164800-1781172000@starkswcd.org
SUMMARY:Board meeting
DESCRIPTION:
URL:https://starkswcd.org/event/board-meeting-6/
END:VEVENT
BEGIN:VEVENT
DTSTART;TZID=America/New_York:20260709T080000
DTEND;TZID=America/New_York:20260709T100000
DTSTAMP:20260424T083032
CREATED:20251217T203451Z
LAST-MODIFIED:20251217T203451Z
UID:1144-1783584000-1783591200@starkswcd.org
SUMMARY:Board meeting
DESCRIPTION:
URL:https://starkswcd.org/event/board-meeting-7/
END:VEVENT
BEGIN:VEVENT
DTSTART;TZID=America/New_York:20260722T180000
DTEND;TZID=America/New_York:20260722T190000
DTSTAMP:20260424T083032
CREATED:20260409T152301Z
LAST-MODIFIED:20260409T152301Z
UID:1672-1784743200-1784746800@starkswcd.org
SUMMARY:Watershed Wise Landscaping
DESCRIPTION:Explore how modern-day infrastructure affects our water ways and how you can turn your yard in to its own mini watershed to reduce stormwater runoff\, improve water quality\, reduce potential drainage issues\, and invite pollinators. Visit Month Calendar | North Canton Public Library for more information North Canton library 6pm
URL:https://starkswcd.org/event/watershed-wise-landscaping-3/
END:VEVENT
BEGIN:VEVENT
DTSTART;TZID=America/New_York:20260812T150000
DTEND;TZID=America/New_York:20260812T163000
DTSTAMP:20260424T083032
CREATED:20260409T152010Z
LAST-MODIFIED:20260409T152010Z
UID:1670-1786546800-1786552200@starkswcd.org
SUMMARY:Native Plant Bingo
DESCRIPTION:Join Stark SWCD to discover the benefits of native plants for pollinators\, stormwater\, soil quality\, and drainage. Have a chance to win various gardening and native plant prizes while you play several rounds of bingo and begin to recognize the names of various native plants. Visit Month Calendar | North Canton Public Library for more information. North Canton Public Library 3pm
URL:https://starkswcd.org/event/native-plant-bingo/
END:VEVENT
BEGIN:VEVENT
DTSTART;TZID=America/New_York:20260813T080000
DTEND;TZID=America/New_York:20260813T100000
DTSTAMP:20260424T083032
CREATED:20251217T203520Z
LAST-MODIFIED:20251217T203520Z
UID:1146-1786608000-1786615200@starkswcd.org
SUMMARY:Board meeting
DESCRIPTION:
URL:https://starkswcd.org/event/board-meeting-8/
END:VEVENT
BEGIN:VEVENT
DTSTART;TZID=America/New_York:20260910T080000
DTEND;TZID=America/New_York:20260910T100000
DTSTAMP:20260424T083032
CREATED:20251217T203549Z
LAST-MODIFIED:20251217T203549Z
UID:1148-1789027200-1789034400@starkswcd.org
SUMMARY:Board meeting
DESCRIPTION:
URL:https://starkswcd.org/event/board-meeting-9/
END:VEVENT
BEGIN:VEVENT
DTSTART;TZID=America/New_York:20261008T080000
DTEND;TZID=America/New_York:20261008T100000
DTSTAMP:20260424T083032
CREATED:20251217T203625Z
LAST-MODIFIED:20251217T203625Z
UID:1150-1791446400-1791453600@starkswcd.org
SUMMARY:Board meeting
DESCRIPTION:
URL:https://starkswcd.org/event/board-meeting-10/
END:VEVENT
BEGIN:VEVENT
DTSTART;TZID=America/New_York:20261112T080000
DTEND;TZID=America/New_York:20261112T100000
DTSTAMP:20260424T083032
CREATED:20251217T203651Z
LAST-MODIFIED:20251217T203651Z
UID:1152-1794470400-1794477600@starkswcd.org
SUMMARY:Board meeting
DESCRIPTION:
URL:https://starkswcd.org/event/board-meeting-11/
END:VEVENT
BEGIN:VEVENT
DTSTART;TZID=America/New_York:20261210T080000
DTEND;TZID=America/New_York:20261210T100000
DTSTAMP:20260424T083032
CREATED:20251217T203829Z
LAST-MODIFIED:20251217T203829Z
UID:1154-1796889600-1796896800@starkswcd.org
SUMMARY:Board meeting
DESCRIPTION:
URL:https://starkswcd.org/event/board-meeting-12/
END:VEVENT
END:VCALENDAR